BEGIN:VCALENDAR
VERSION:2.0
PRODID:-//Gallatin County Tourism • Gallatin County, Kentucky - ECPv6.15.20//NONSGML v1.0//EN
CALSCALE:GREGORIAN
METHOD:PUBLISH
X-ORIGINAL-URL:https://visitgallatincountyky.com
X-WR-CALDESC:Events for Gallatin County Tourism • Gallatin County, Kentucky
REFRESH-INTERVAL;VALUE=DURATION:PT1H
X-Robots-Tag:noindex
X-PUBLISHED-TTL:PT1H
BEGIN:VTIMEZONE
TZID:America/Kentucky/Louisville
BEGIN:DAYLIGHT
TZOFFSETFROM:-0500
TZOFFSETTO:-0400
TZNAME:EDT
DTSTART:20240310T070000
END:DAYLIGHT
BEGIN:STANDARD
TZOFFSETFROM:-0400
TZOFFSETTO:-0500
TZNAME:EST
DTSTART:20241103T060000
END:STANDARD
BEGIN:DAYLIGHT
TZOFFSETFROM:-0500
TZOFFSETTO:-0400
TZNAME:EDT
DTSTART:20250309T070000
END:DAYLIGHT
BEGIN:STANDARD
TZOFFSETFROM:-0400
TZOFFSETTO:-0500
TZNAME:EST
DTSTART:20251102T060000
END:STANDARD
BEGIN:DAYLIGHT
TZOFFSETFROM:-0500
TZOFFSETTO:-0400
TZNAME:EDT
DTSTART:20260308T070000
END:DAYLIGHT
BEGIN:STANDARD
TZOFFSETFROM:-0400
TZOFFSETTO:-0500
TZNAME:EST
DTSTART:20261101T060000
END:STANDARD
END:VTIMEZONE
BEGIN:VEVENT
DTSTART;VALUE=DATE:20250905
DTEND;VALUE=DATE:20250907
DTSTAMP:20260425T113904
CREATED:20250303T193928Z
LAST-MODIFIED:20250303T193928Z
UID:1729-1757030400-1757203199@visitgallatincountyky.com
SUMMARY:KY Bass Federation State Fishing Tournament
DESCRIPTION:Join us for the KY Bass Federation State Fishing Tournament on September 5 & 6\, 2025.
URL:https://visitgallatincountyky.com/event/ky-bass-federation-state-fishing-tournament/
LOCATION:KY
ATTACH;FMTTYPE=image/jpeg:https://visitgallatincountyky.com/wp-content/uploads/2025/03/pexels-gio-spigo-276311867-13740880.jpg
END:VEVENT
BEGIN:VEVENT
DTSTART;VALUE=DATE:20250906
DTEND;VALUE=DATE:20250907
DTSTAMP:20260425T113904
CREATED:20250303T194133Z
LAST-MODIFIED:20250303T194133Z
UID:1732-1757116800-1757203199@visitgallatincountyky.com
SUMMARY:Glencoe Car Show
DESCRIPTION:Glencoe Car Show at Gallatin Co Fairgrounds
URL:https://visitgallatincountyky.com/event/glencoe-car-show/
LOCATION:KY
ATTACH;FMTTYPE=image/webp:https://visitgallatincountyky.com/wp-content/uploads/2025/03/car-show.webp
END:VEVENT
BEGIN:VEVENT
DTSTART;TZID=America/Kentucky/Louisville:20250906T080000
DTEND;TZID=America/Kentucky/Louisville:20250906T080000
DTSTAMP:20260425T113904
CREATED:20250303T194430Z
LAST-MODIFIED:20250303T194445Z
UID:1735-1757145600-1757145600@visitgallatincountyky.com
SUMMARY:MuddyKids Family Obstacle Mud Run
DESCRIPTION:Muddy Kids is coming to Kentucky on Saturday\, September 6\, 2025. The 2025 edition of the Adventure for the whole Family has got even bigger\, muddier and better with 15+ Obstacles. This 1.5 – 2.2 miles adventure event series for kids aged 5-17 with fun and challenging obstacles\, mud & entertainment for the whole family. Muddy Kids is one of the best things to do in Kentucky in 2025. Grab your family and create muddy memories. \nLearn more at https://muddykids.us/events/kentucky-ky/.
URL:https://visitgallatincountyky.com/event/muddykids-family-obstacle-mud-run/
LOCATION:Mild 2 Wild Off-Road Riding Park\, 1840 KY-465\, Sparta\, KY\, 41086
ATTACH;FMTTYPE=image/webp:https://visitgallatincountyky.com/wp-content/uploads/2025/03/14-3.webp
END:VEVENT
BEGIN:VEVENT
DTSTART;TZID=America/Kentucky/Louisville:20250907T080000
DTEND;TZID=America/Kentucky/Louisville:20250907T080000
DTSTAMP:20260425T113904
CREATED:20250303T194813Z
LAST-MODIFIED:20250303T194813Z
UID:1739-1757232000-1757232000@visitgallatincountyky.com
SUMMARY:Muddy Princess 5K Obstacle MudRun for Women
DESCRIPTION:Muddy Princess is coming to  Kentucky on Sunday\, September 7th\, 2025. The 2025 edition of the 5k obstacle mud run for woman has got even bigger\, muddier and better with 18+ Obstacles. This run is made for women of all sizes\, ages and fitness-levels from 7 years old onwards. \nYou don’t have to be Wonder Woman to join Muddy Princess – run\, jog or walk the course. Muddy Princess is 100% Fun\, 100% Teamwork\, 75% Challenge and 0% Competition. \nMuddy Princess is one of the best things to do in  Kentucky in 2025. Grab your girl-squad and create muddy memories with your friends\, colleagues\, family and support the cause.\n\n\n\n\n\n\n\n\n\n\nLearn more at https://www.muddyprincess.com/events/kentucky-ky/.
URL:https://visitgallatincountyky.com/event/muddy-princess-5k-obstacle-mudrun-for-women/
LOCATION:Mild 2 Wild Off-Road Riding Park\, 1840 KY-465\, Sparta\, KY\, 41086
ATTACH;FMTTYPE=image/jpeg:https://visitgallatincountyky.com/wp-content/uploads/2025/03/Mountain-Valley-scaled-1.jpg
END:VEVENT
END:VCALENDAR