BEGIN:VCALENDAR
VERSION:2.0
PRODID:-//Gallatin County Tourism • Gallatin County, Kentucky - ECPv6.15.20//NONSGML v1.0//EN
CALSCALE:GREGORIAN
METHOD:PUBLISH
X-WR-CALNAME:Gallatin County Tourism • Gallatin County, Kentucky
X-ORIGINAL-URL:https://visitgallatincountyky.com
X-WR-CALDESC:Events for Gallatin County Tourism • Gallatin County, Kentucky
REFRESH-INTERVAL;VALUE=DURATION:PT1H
X-Robots-Tag:noindex
X-PUBLISHED-TTL:PT1H
BEGIN:VTIMEZONE
TZID:America/Kentucky/Louisville
BEGIN:DAYLIGHT
TZOFFSETFROM:-0500
TZOFFSETTO:-0400
TZNAME:EDT
DTSTART:20220313T070000
END:DAYLIGHT
BEGIN:STANDARD
TZOFFSETFROM:-0400
TZOFFSETTO:-0500
TZNAME:EST
DTSTART:20221106T060000
END:STANDARD
BEGIN:DAYLIGHT
TZOFFSETFROM:-0500
TZOFFSETTO:-0400
TZNAME:EDT
DTSTART:20230312T070000
END:DAYLIGHT
BEGIN:STANDARD
TZOFFSETFROM:-0400
TZOFFSETTO:-0500
TZNAME:EST
DTSTART:20231105T060000
END:STANDARD
BEGIN:DAYLIGHT
TZOFFSETFROM:-0500
TZOFFSETTO:-0400
TZNAME:EDT
DTSTART:20240310T070000
END:DAYLIGHT
BEGIN:STANDARD
TZOFFSETFROM:-0400
TZOFFSETTO:-0500
TZNAME:EST
DTSTART:20241103T060000
END:STANDARD
END:VTIMEZONE
BEGIN:VEVENT
DTSTART;TZID=America/Kentucky/Louisville:20230422T100000
DTEND;TZID=America/Kentucky/Louisville:20230422T170000
DTSTAMP:20260425T200211
CREATED:20230324T194406Z
LAST-MODIFIED:20230324T195028Z
UID:1382-1682157600-1682182800@visitgallatincountyky.com
SUMMARY:Earth Day Celebration
DESCRIPTION:Come celebrate Earth Day with Gallatin County\, Kentucky! The celebration is located behind the High School.
URL:https://visitgallatincountyky.com/event/earth-day-celebration-2/
ATTACH;FMTTYPE=image/jpeg:https://visitgallatincountyky.com/wp-content/uploads/2021/09/eagle-2-web.jpg
END:VEVENT
BEGIN:VEVENT
DTSTART;VALUE=DATE:20230422
DTEND;VALUE=DATE:20230423
DTSTAMP:20260425T200211
CREATED:20230324T192729Z
LAST-MODIFIED:20230324T200022Z
UID:1375-1682121600-1682207999@visitgallatincountyky.com
SUMMARY:Guns and Hoses Golf Outing
DESCRIPTION:Join us at Sugar Bay Golf Course for the annual Warsaw Fire and Police Departments’ Golf Scramble.
URL:https://visitgallatincountyky.com/event/guns-and-hoses-golf-outing/
LOCATION:Sugar Bay Golf Course\, 975 Dry Creek Rd\, Warsaw\, KY\, 41095\, United States
ATTACH;FMTTYPE=image/jpeg:https://visitgallatincountyky.com/wp-content/uploads/2023/03/Sugar-Bay.jpg
END:VEVENT
END:VCALENDAR