BEGIN:VCALENDAR
VERSION:2.0
PRODID:-//Gallatin County Tourism • Gallatin County, Kentucky - ECPv6.15.20//NONSGML v1.0//EN
CALSCALE:GREGORIAN
METHOD:PUBLISH
X-WR-CALNAME:Gallatin County Tourism • Gallatin County, Kentucky
X-ORIGINAL-URL:https://visitgallatincountyky.com
X-WR-CALDESC:Events for Gallatin County Tourism • Gallatin County, Kentucky
REFRESH-INTERVAL;VALUE=DURATION:PT1H
X-Robots-Tag:noindex
X-PUBLISHED-TTL:PT1H
BEGIN:VTIMEZONE
TZID:America/Kentucky/Louisville
BEGIN:DAYLIGHT
TZOFFSETFROM:-0500
TZOFFSETTO:-0400
TZNAME:EDT
DTSTART:20220313T070000
END:DAYLIGHT
BEGIN:STANDARD
TZOFFSETFROM:-0400
TZOFFSETTO:-0500
TZNAME:EST
DTSTART:20221106T060000
END:STANDARD
BEGIN:DAYLIGHT
TZOFFSETFROM:-0500
TZOFFSETTO:-0400
TZNAME:EDT
DTSTART:20230312T070000
END:DAYLIGHT
BEGIN:STANDARD
TZOFFSETFROM:-0400
TZOFFSETTO:-0500
TZNAME:EST
DTSTART:20231105T060000
END:STANDARD
BEGIN:DAYLIGHT
TZOFFSETFROM:-0500
TZOFFSETTO:-0400
TZNAME:EDT
DTSTART:20240310T070000
END:DAYLIGHT
BEGIN:STANDARD
TZOFFSETFROM:-0400
TZOFFSETTO:-0500
TZNAME:EST
DTSTART:20241103T060000
END:STANDARD
BEGIN:DAYLIGHT
TZOFFSETFROM:-0500
TZOFFSETTO:-0400
TZNAME:EDT
DTSTART:20250309T070000
END:DAYLIGHT
BEGIN:STANDARD
TZOFFSETFROM:-0400
TZOFFSETTO:-0500
TZNAME:EST
DTSTART:20251102T060000
END:STANDARD
END:VTIMEZONE
BEGIN:VEVENT
DTSTART;VALUE=DATE:20240907
DTEND;VALUE=DATE:20240908
DTSTAMP:20260425T105054
CREATED:20240130T152043Z
LAST-MODIFIED:20240130T152043Z
UID:1590-1725667200-1725753599@visitgallatincountyky.com
SUMMARY:Car Show for Drug Addiction Awareness at Gallatin County Fairgrounds
DESCRIPTION:September 7- Car Show for Drug Addiction Awareness at Gallatin County Fairgrounds – https://www.facebook.com/events/747891840557641/?ref=newsfeed  It’s that time again!! September 7th!!\n2nd Annual Glencoe Car Show\nRegistration 10am-2pm\nAwards at 3pm\nEntry fee $20\nDoor Prizes\, Trophies\, raffles\, bounce house\, food and drinks at the concession building!\nFREE KIDS POWERWHEEL SHOW!!!!!
URL:https://visitgallatincountyky.com/event/car-show-for-drug-addiction-awareness-at-gallatin-county-fairgrounds/
LOCATION:Gallatin County Fairgrounds Glencoe\, KY\, 4476 US Hwy 127\, Glencoe\, KY\, 41046
END:VEVENT
BEGIN:VEVENT
DTSTART;VALUE=DATE:20240818
DTEND;VALUE=DATE:20240819
DTSTAMP:20260425T105054
CREATED:20240130T151755Z
LAST-MODIFIED:20240130T151755Z
UID:1588-1723939200-1724025599@visitgallatincountyky.com
SUMMARY:MuddyPrincess\, 5K Obstacle MudRun for Women
DESCRIPTION:August 18- MuddyPrincess\, 5K Obstacle MudRun for Women\, https://www.muddyprincess.com/events/kentucky-24/\nhttps://www.facebook.com/events/588174856846233
URL:https://visitgallatincountyky.com/event/muddyprincess-5k-obstacle-mudrun-for-women/
END:VEVENT
BEGIN:VEVENT
DTSTART;VALUE=DATE:20240817
DTEND;VALUE=DATE:20240818
DTSTAMP:20260425T105054
CREATED:20240130T151657Z
LAST-MODIFIED:20240130T151657Z
UID:1585-1723852800-1723939199@visitgallatincountyky.com
SUMMARY:MuddyKids\, Mild2Wild Off Road Riding Park
DESCRIPTION:August 17- MuddyKids\, Mild2Wild Off Road Riding Park\, Sparta\, KY – https://www.facebook.com/events/746951557281301\nhttps://muddykids.us/events/kentucky/
URL:https://visitgallatincountyky.com/event/muddykids-mild2wild-off-road-riding-park/
LOCATION:Mild 2 Wild Off-Road Riding Park\, 1840 KY-465\, Sparta\, KY\, 41086
END:VEVENT
BEGIN:VEVENT
DTSTART;TZID=America/Kentucky/Louisville:20240815T170000
DTEND;TZID=America/Kentucky/Louisville:20240815T200000
DTSTAMP:20260425T105054
CREATED:20240130T151608Z
LAST-MODIFIED:20240130T151608Z
UID:1583-1723741200-1723752000@visitgallatincountyky.com
SUMMARY:Third Thursday Market in the Park with live music at Warsaw Riverfront Park
DESCRIPTION:August 15- Third Thursday Market in the Park with live music at Warsaw Riverfront Park 5-8pm
URL:https://visitgallatincountyky.com/event/third-thursday-market-in-the-park-with-live-music-at-warsaw-riverfront-park-3/
LOCATION:Warsaw Riverfront Park\, 3rd St\, Warsaw\, KY\, 41095\, United States
END:VEVENT
BEGIN:VEVENT
DTSTART;VALUE=DATE:20240810
DTEND;VALUE=DATE:20240811
DTSTAMP:20260425T105054
CREATED:20240130T151504Z
LAST-MODIFIED:20240130T151504Z
UID:1580-1723248000-1723334399@visitgallatincountyky.com
SUMMARY:Gool Ole Boys and Gals Car Show\, Warsaw Riverfront Park
DESCRIPTION:August 10- Gool Ole Boys and Gals Car Show\, Warsaw Riverfront Park
URL:https://visitgallatincountyky.com/event/gool-ole-boys-and-gals-car-show-warsaw-riverfront-park/
LOCATION:Warsaw Riverfront Park\, 3rd St\, Warsaw\, KY\, 41095\, United States
END:VEVENT
BEGIN:VEVENT
DTSTART;VALUE=DATE:20240810
DTEND;VALUE=DATE:20240811
DTSTAMP:20260425T105054
CREATED:20240130T151339Z
LAST-MODIFIED:20240411T154359Z
UID:1574-1723248000-1723334399@visitgallatincountyky.com
SUMMARY:Smugglers Cove Raft Up
DESCRIPTION:August 10 – Smugglers Cove Raft Up
URL:https://visitgallatincountyky.com/event/smugglers-cove-raft-up/
END:VEVENT
BEGIN:VEVENT
DTSTART;TZID=America/Kentucky/Louisville:20240805T190000
DTEND;TZID=America/Kentucky/Louisville:20240805T190000
DTSTAMP:20260425T105054
CREATED:20240411T154254Z
LAST-MODIFIED:20240411T154254Z
UID:1625-1722884400-1722884400@visitgallatincountyky.com
SUMMARY:Circus in Warsaw at Riverfront Park
DESCRIPTION:
URL:https://visitgallatincountyky.com/event/circus-in-warsaw-at-riverfront-park-2/
LOCATION:Warsaw Riverfront Park\, 3rd St\, Warsaw\, KY\, 41095\, United States
END:VEVENT
BEGIN:VEVENT
DTSTART;TZID=America/Kentucky/Louisville:20240805T163000
DTEND;TZID=America/Kentucky/Louisville:20240805T163000
DTSTAMP:20260425T105054
CREATED:20240411T154125Z
LAST-MODIFIED:20240411T154125Z
UID:1622-1722875400-1722875400@visitgallatincountyky.com
SUMMARY:Circus in Warsaw at Riverfront Park
DESCRIPTION:
URL:https://visitgallatincountyky.com/event/circus-in-warsaw-at-riverfront-park/
LOCATION:Warsaw Riverfront Park\, 3rd St\, Warsaw\, KY\, 41095\, United States
END:VEVENT
BEGIN:VEVENT
DTSTART;VALUE=DATE:20240801
DTEND;VALUE=DATE:20240804
DTSTAMP:20260425T105054
CREATED:20240130T151413Z
LAST-MODIFIED:20240130T151413Z
UID:1577-1722470400-1722729599@visitgallatincountyky.com
SUMMARY:127 Yard Sale
DESCRIPTION:August 1-3- 127 Yard Sale
URL:https://visitgallatincountyky.com/event/127-yard-sale/
END:VEVENT
BEGIN:VEVENT
DTSTART;VALUE=DATE:20240720
DTEND;VALUE=DATE:20240721
DTSTAMP:20260425T105054
CREATED:20240130T151231Z
LAST-MODIFIED:20240130T151231Z
UID:1571-1721433600-1721519999@visitgallatincountyky.com
SUMMARY:July 20- Velvet Soul at Warsaw Riverfront Park
DESCRIPTION:July 20- Velvet Soul at Warsaw Riverfront Park
URL:https://visitgallatincountyky.com/event/july-20-velvet-soul-at-warsaw-riverfront-park/
LOCATION:Warsaw Riverfront Park\, 3rd St\, Warsaw\, KY\, 41095\, United States
END:VEVENT
BEGIN:VEVENT
DTSTART;TZID=America/Kentucky/Louisville:20240718T170000
DTEND;TZID=America/Kentucky/Louisville:20240718T200000
DTSTAMP:20260425T105054
CREATED:20240130T151139Z
LAST-MODIFIED:20240130T151139Z
UID:1569-1721322000-1721332800@visitgallatincountyky.com
SUMMARY:Third Thursday Market in the Park with live music at Warsaw Riverfront Park
DESCRIPTION:July 18- Third Thursday Market in the Park with live music at Warsaw Riverfront Park 5-8pm
URL:https://visitgallatincountyky.com/event/third-thursday-market-in-the-park-with-live-music-at-warsaw-riverfront-park-2/
LOCATION:Warsaw Riverfront Park\, 3rd St\, Warsaw\, KY\, 41095\, United States
END:VEVENT
BEGIN:VEVENT
DTSTART;VALUE=DATE:20240704
DTEND;VALUE=DATE:20240706
DTSTAMP:20260425T105054
CREATED:20240130T151041Z
LAST-MODIFIED:20240130T151041Z
UID:1566-1720051200-1720223999@visitgallatincountyky.com
SUMMARY:Warsaw Riverfest\, Fireworks on July 4
DESCRIPTION:July 4-5 – Warsaw Riverfest\, Fireworks on July 4  www.cityofwarsawky.org/
URL:https://visitgallatincountyky.com/event/warsaw-riverfest-fireworks-on-july-4/
END:VEVENT
BEGIN:VEVENT
DTSTART;TZID=America/Kentucky/Louisville:20240620T170000
DTEND;TZID=America/Kentucky/Louisville:20240620T200000
DTSTAMP:20260425T105054
CREATED:20240130T150948Z
LAST-MODIFIED:20240130T150948Z
UID:1564-1718902800-1718913600@visitgallatincountyky.com
SUMMARY:Third Thursday Market in the Park with live music at Warsaw Riverfront Park
DESCRIPTION:June 20- Third Thursday Market in the Park with live music at Warsaw Riverfront Park 5-8pm
URL:https://visitgallatincountyky.com/event/third-thursday-market-in-the-park-with-live-music-at-warsaw-riverfront-park/
LOCATION:Warsaw Riverfront Park\, 3rd St\, Warsaw\, KY\, 41095\, United States
END:VEVENT
BEGIN:VEVENT
DTSTART;TZID=America/Kentucky/Louisville:20240608T080000
DTEND;TZID=America/Kentucky/Louisville:20240615T170000
DTSTAMP:20260425T105054
CREATED:20240130T150835Z
LAST-MODIFIED:20240130T150835Z
UID:1561-1717833600-1718470800@visitgallatincountyky.com
SUMMARY:Gallatin County Fair at the Gallatin County Fairgrounds
DESCRIPTION:June 8-15- Gallatin County Fair at the Gallatin County Fairgrounds\, Glencoe\, KY – 4476 Hwy. 127\, Glencoe\, KY – https://www.facebook.com/profile.php?id=100085403296757
URL:https://visitgallatincountyky.com/event/gallatin-county-fair-at-the-gallatin-county-fairgrounds/
LOCATION:Gallatin County Fairgrounds Glencoe\, KY\, 4476 US Hwy 127\, Glencoe\, KY\, 41046
END:VEVENT
BEGIN:VEVENT
DTSTART;VALUE=DATE:20240608
DTEND;VALUE=DATE:20240609
DTSTAMP:20260425T105054
CREATED:20240130T150721Z
LAST-MODIFIED:20240130T150721Z
UID:1559-1717804800-1717891199@visitgallatincountyky.com
SUMMARY:Smugglers Cove Marina 2nd Annual Poker Run
DESCRIPTION:June 8- Smugglers Cove Marina 2nd Annual Poker Run (Rain date June 22)
URL:https://visitgallatincountyky.com/event/smugglers-cove-marina-2nd-annual-poker-run/
LOCATION:Smugglers Cove Marina\, 1147 US-42\, Warsaw\, KY\, 41095\, United States
END:VEVENT
BEGIN:VEVENT
DTSTART;VALUE=DATE:20240531
DTEND;VALUE=DATE:20240603
DTSTAMP:20260425T105054
CREATED:20240130T150610Z
LAST-MODIFIED:20240130T150610Z
UID:1557-1717113600-1717372799@visitgallatincountyky.com
SUMMARY:‘Birthday Ride’ Mild2Wild Off Road Riding Park\, Sparta\, KY
DESCRIPTION:May 31-June 2- ‘Birthday Ride’ Mild2Wild Off Road Riding Park\, Sparta\, KY
URL:https://visitgallatincountyky.com/event/birthday-ride-mild2wild-off-road-riding-park-sparta-ky/
LOCATION:Mild 2 Wild Off-Road Riding Park\, 1840 KY-465\, Sparta\, KY\, 41086
END:VEVENT
BEGIN:VEVENT
DTSTART;VALUE=DATE:20240518
DTEND;VALUE=DATE:20240519
DTSTAMP:20260425T105054
CREATED:20240130T150440Z
LAST-MODIFIED:20240130T150440Z
UID:1555-1715990400-1716076799@visitgallatincountyky.com
SUMMARY:Peony Festival
DESCRIPTION:May 18- Peony Festival- Courthouse Square in Warsaw KY – 5k\, vendors welcome: https://gallatin.ca.uky.edu/events/peony-festival-2024
URL:https://visitgallatincountyky.com/event/peony-festival/
END:VEVENT
BEGIN:VEVENT
DTSTART;VALUE=DATE:20240517
DTEND;VALUE=DATE:20240518
DTSTAMP:20260425T105054
CREATED:20240130T150248Z
LAST-MODIFIED:20240130T150248Z
UID:1552-1715904000-1715990399@visitgallatincountyky.com
SUMMARY:City of Warsaw-Party in the Park
DESCRIPTION:May 17- City of Warsaw- Party in the Park
URL:https://visitgallatincountyky.com/event/city-of-warsaw-party-in-the-park/
END:VEVENT
BEGIN:VEVENT
DTSTART;VALUE=DATE:20240510
DTEND;VALUE=DATE:20240512
DTSTAMP:20260425T105054
CREATED:20240130T150002Z
LAST-MODIFIED:20240130T150002Z
UID:1550-1715299200-1715471999@visitgallatincountyky.com
SUMMARY:Sullivan Memorial Truck & Tractor Pull at Gallatin County Fair Grounds
DESCRIPTION:May 10-11- Sullivan Memorial Truck & Tractor Pull at Gallatin County Fair Grounds
URL:https://visitgallatincountyky.com/event/sullivan-memorial-truck-tractor-pull-at-gallatin-county-fair-grounds/
LOCATION:GALLATIN CO. FAIRGROUNDS\, GLENCOE\, KENTUCKY
END:VEVENT
BEGIN:VEVENT
DTSTART;VALUE=DATE:20240420
DTEND;VALUE=DATE:20240421
DTSTAMP:20260425T105054
CREATED:20240130T145858Z
LAST-MODIFIED:20240130T150126Z
UID:1547-1713571200-1713657599@visitgallatincountyky.com
SUMMARY:Guns & Hoses Golf Outing
DESCRIPTION:April 20- Guns & Hoses Golf Outing-Warsaw Police & Fire Department\, Sugar Bay Golf Course
URL:https://visitgallatincountyky.com/event/guns-hoses-golf-outing/
LOCATION:Sugar Bay Golf Course\, 975 Dry Creek Rd\, Warsaw\, KY\, 41095\, United States
END:VEVENT
BEGIN:VEVENT
DTSTART;TZID=America/Kentucky/Louisville:20240317T170000
DTEND;TZID=America/Kentucky/Louisville:20240317T170000
DTSTAMP:20260425T105054
CREATED:20240130T145757Z
LAST-MODIFIED:20240130T145757Z
UID:1544-1710694800-1710694800@visitgallatincountyky.com
SUMMARY:St. Patrick’s Day Bash at Sunset Grill
DESCRIPTION:March 17- St. Patrick’s Day Bash at Sunset Grill\n\n Join us in the MORNING for Kegs & Eggs\, Green Eggs & Ham\, Green Beer\, and St. Patty’s Day Themed Eats & Drinks. Live music by Whiskey Town begins @ 5PM Party continues with Ben Dearie Acoustics @ 9PM. Patio open with weather permitting!
URL:https://visitgallatincountyky.com/event/st-patricks-day-bash-at-sunset-grill/
LOCATION:Sunset Grill\, 1160 US-42\, Warsaw\, KY\, 41095\, United States
END:VEVENT
BEGIN:VEVENT
DTSTART;VALUE=DATE:20240316
DTEND;VALUE=DATE:20240317
DTSTAMP:20260425T105054
CREATED:20240130T145514Z
LAST-MODIFIED:20240130T145514Z
UID:1542-1710547200-1710633599@visitgallatincountyky.com
SUMMARY:St. Patrick's Day Party at Hey Turtle with DJ Todd Samuel
DESCRIPTION:March 16- St. Patrick’s Day Party at Hey Turtle with DJ Todd Samuel
URL:https://visitgallatincountyky.com/event/st-patricks-day-party-at-hey-turtle-with-dj-todd-samuel/
LOCATION:Hey Turtle\, 305 Main Cross St.\, Warsaw\, KY\, 41095\, United States
END:VEVENT
BEGIN:VEVENT
DTSTART;VALUE=DATE:20240211
DTEND;VALUE=DATE:20240212
DTSTAMP:20260425T105054
CREATED:20240130T145336Z
LAST-MODIFIED:20240130T145336Z
UID:1539-1707609600-1707695999@visitgallatincountyky.com
SUMMARY:Super Bowl Watch Party at Hey Turtle 
DESCRIPTION:February 11- Super Bowl Watch Party at Hey Turtle \n305 Main Cross Warsaw\, KY 41095
URL:https://visitgallatincountyky.com/event/super-bowl-watch-party-at-hey-turtle/
LOCATION:Hey Turtle\, 305 Main Cross St.\, Warsaw\, KY\, 41095\, United States
END:VEVENT
BEGIN:VEVENT
DTSTART;TZID=America/Kentucky/Louisville:20231209T150000
DTEND;TZID=America/Kentucky/Louisville:20231209T200000
DTSTAMP:20260425T105054
CREATED:20231113T154750Z
LAST-MODIFIED:20231113T154750Z
UID:1509-1702134000-1702152000@visitgallatincountyky.com
SUMMARY:Christmas on the Square - Light Up Parade
DESCRIPTION:Christmas on the Square – Light Up Parade \nDecember 9\, 2023 from 3:00 – 8:00 pm. Parade Starts at 5:30 pm. \nIce skating rink\, Santa\, Music\, Live Nativity Scene\, Snow Globe Photo Station\, Food and much more!
URL:https://visitgallatincountyky.com/event/christmas-on-the-square-light-up-parade/
ATTACH;FMTTYPE=image/jpeg:https://visitgallatincountyky.com/wp-content/uploads/2023/11/warsaw-christmas.jpg
END:VEVENT
BEGIN:VEVENT
DTSTART;VALUE=DATE:20231202
DTEND;VALUE=DATE:20231203
DTSTAMP:20260425T105054
CREATED:20230328T004106Z
LAST-MODIFIED:20230328T004106Z
UID:1441-1701475200-1701475200@visitgallatincountyky.com
SUMMARY:Breakfast with Santa
DESCRIPTION:
URL:https://visitgallatincountyky.com/event/breakfast-with-santa/
ATTACH;FMTTYPE=image/jpeg:https://visitgallatincountyky.com/wp-content/uploads/2023/03/Breakfast-with-Santa.jpg
END:VEVENT
BEGIN:VEVENT
DTSTART;TZID=America/Kentucky/Louisville:20231201T180000
DTEND;TZID=America/Kentucky/Louisville:20231201T220000
DTSTAMP:20260425T105054
CREATED:20231113T154549Z
LAST-MODIFIED:20231113T154549Z
UID:1504-1701453600-1701468000@visitgallatincountyky.com
SUMMARY:Gallatin County Chamber of Commerce Christmas Dinner
DESCRIPTION:December 1- Gallatin County Chamber of Commerce Christmas Dinner\nhttps://gallatincountykychamber.org/2023-christmas-party
URL:https://visitgallatincountyky.com/event/gallatin-county-chamber-of-commerce-christmas-dinner/
LOCATION:Sugar Bay Golf Course\, 975 Dry Creek Rd\, Warsaw\, KY\, 41095\, United States
ATTACH;FMTTYPE=image/webp:https://visitgallatincountyky.com/wp-content/uploads/2023/11/rsw-1280h-1305.webp
ORGANIZER;CN="Gallatin Couny Chamber of Commerc":MAILTO:gallatincochamber@gmail.com
END:VEVENT
BEGIN:VEVENT
DTSTART;VALUE=DATE:20231021
DTEND;VALUE=DATE:20231022
DTSTAMP:20260425T105054
CREATED:20230327T224431Z
LAST-MODIFIED:20230327T224431Z
UID:1439-1697846400-1697932799@visitgallatincountyky.com
SUMMARY:Glencoe General Store's Oktoberfest
DESCRIPTION:
URL:https://visitgallatincountyky.com/event/glencoe-general-stores-oktoberfest/
LOCATION:Glencoe General Store\, 104 S Main St\, Glencoe\, KY\, 41046\, United States
ATTACH;FMTTYPE=image/gif:https://visitgallatincountyky.com/wp-content/uploads/2021/10/glen-2.gif
END:VEVENT
BEGIN:VEVENT
DTSTART;VALUE=DATE:20230930
DTEND;VALUE=DATE:20231001
DTSTAMP:20260425T105054
CREATED:20230327T223552Z
LAST-MODIFIED:20230327T223610Z
UID:1430-1696032000-1696118399@visitgallatincountyky.com
SUMMARY:"Mild to Wild" Bubbafest
DESCRIPTION:
URL:https://visitgallatincountyky.com/event/mild-to-wild-bubbafest/
LOCATION:Mild 2 Wild Off-Road Riding Park\, 1840 KY-465\, Sparta\, KY\, 41086
ATTACH;FMTTYPE=image/jpeg:https://visitgallatincountyky.com/wp-content/uploads/2023/03/Bubbafest.jpg
END:VEVENT
BEGIN:VEVENT
DTSTART;VALUE=DATE:20230812
DTEND;VALUE=DATE:20230813
DTSTAMP:20260425T105054
CREATED:20230327T223224Z
LAST-MODIFIED:20230327T223224Z
UID:1427-1691798400-1691884799@visitgallatincountyky.com
SUMMARY:Raft Up
DESCRIPTION:
URL:https://visitgallatincountyky.com/event/raft-up/
LOCATION:Smugglers Cove Marina\, 1147 US-42\, Warsaw\, KY\, 41095\, United States
ATTACH;FMTTYPE=image/jpeg:https://visitgallatincountyky.com/wp-content/uploads/2023/03/Raft-Up-.jpg
END:VEVENT
BEGIN:VEVENT
DTSTART;VALUE=DATE:20230805
DTEND;VALUE=DATE:20230806
DTSTAMP:20260425T105054
CREATED:20230327T222829Z
LAST-MODIFIED:20230327T222829Z
UID:1425-1691193600-1691279999@visitgallatincountyky.com
SUMMARY:Concert: Tyler Mullins & Company
DESCRIPTION:
URL:https://visitgallatincountyky.com/event/concert-tyler-mullins-company/
LOCATION:City Park
ATTACH;FMTTYPE=image/jpeg:https://visitgallatincountyky.com/wp-content/uploads/2022/02/tyler-mullins-2-web.jpg
END:VEVENT
END:VCALENDAR