BEGIN:VCALENDAR
VERSION:2.0
PRODID:-//Gallatin County Tourism • Gallatin County, Kentucky - ECPv6.15.20//NONSGML v1.0//EN
CALSCALE:GREGORIAN
METHOD:PUBLISH
X-WR-CALNAME:Gallatin County Tourism • Gallatin County, Kentucky
X-ORIGINAL-URL:https://visitgallatincountyky.com
X-WR-CALDESC:Events for Gallatin County Tourism • Gallatin County, Kentucky
REFRESH-INTERVAL;VALUE=DURATION:PT1H
X-Robots-Tag:noindex
X-PUBLISHED-TTL:PT1H
BEGIN:VTIMEZONE
TZID:America/Kentucky/Louisville
BEGIN:DAYLIGHT
TZOFFSETFROM:-0500
TZOFFSETTO:-0400
TZNAME:EDT
DTSTART:20250309T070000
END:DAYLIGHT
BEGIN:STANDARD
TZOFFSETFROM:-0400
TZOFFSETTO:-0500
TZNAME:EST
DTSTART:20251102T060000
END:STANDARD
BEGIN:DAYLIGHT
TZOFFSETFROM:-0500
TZOFFSETTO:-0400
TZNAME:EDT
DTSTART:20260308T070000
END:DAYLIGHT
BEGIN:STANDARD
TZOFFSETFROM:-0400
TZOFFSETTO:-0500
TZNAME:EST
DTSTART:20261101T060000
END:STANDARD
BEGIN:DAYLIGHT
TZOFFSETFROM:-0500
TZOFFSETTO:-0400
TZNAME:EDT
DTSTART:20270314T070000
END:DAYLIGHT
BEGIN:STANDARD
TZOFFSETFROM:-0400
TZOFFSETTO:-0500
TZNAME:EST
DTSTART:20271107T060000
END:STANDARD
END:VTIMEZONE
BEGIN:VEVENT
DTSTART;VALUE=DATE:20261010
DTEND;VALUE=DATE:20261011
DTSTAMP:20260425T102101
CREATED:20260415T160256Z
LAST-MODIFIED:20260415T160256Z
UID:1869-1791590400-1791676799@visitgallatincountyky.com
SUMMARY:Glencoe Festival
DESCRIPTION:
URL:https://visitgallatincountyky.com/event/glencoe-festival/
END:VEVENT
BEGIN:VEVENT
DTSTART;VALUE=DATE:20261017
DTEND;VALUE=DATE:20261018
DTSTAMP:20260425T102101
CREATED:20260415T160341Z
LAST-MODIFIED:20260415T160341Z
UID:1871-1792195200-1792281599@visitgallatincountyky.com
SUMMARY:Chocolate Crawl
DESCRIPTION:
URL:https://visitgallatincountyky.com/event/chocolate-crawl-2/
END:VEVENT
BEGIN:VEVENT
DTSTART;VALUE=DATE:20261205
DTEND;VALUE=DATE:20261206
DTSTAMP:20260425T102101
CREATED:20260415T160552Z
LAST-MODIFIED:20260415T160552Z
UID:1873-1796428800-1796515199@visitgallatincountyky.com
SUMMARY:Christmas on the Square\, Light Up Parade
DESCRIPTION:
URL:https://visitgallatincountyky.com/event/christmas-on-the-square-light-up-parade-2/
LOCATION:Courthouse Square\, Warsaw\, KY\, 202 Washington St\, Warsaw\, KY\, 41095\, United States
END:VEVENT
END:VCALENDAR