BEGIN:VCALENDAR
VERSION:2.0
PRODID:-//Gallatin County Tourism • Gallatin County, Kentucky - ECPv6.15.20//NONSGML v1.0//EN
CALSCALE:GREGORIAN
METHOD:PUBLISH
X-ORIGINAL-URL:https://visitgallatincountyky.com
X-WR-CALDESC:Events for Gallatin County Tourism • Gallatin County, Kentucky
REFRESH-INTERVAL;VALUE=DURATION:PT1H
X-Robots-Tag:noindex
X-PUBLISHED-TTL:PT1H
BEGIN:VTIMEZONE
TZID:America/Kentucky/Louisville
BEGIN:DAYLIGHT
TZOFFSETFROM:-0500
TZOFFSETTO:-0400
TZNAME:EDT
DTSTART:20250309T070000
END:DAYLIGHT
BEGIN:STANDARD
TZOFFSETFROM:-0400
TZOFFSETTO:-0500
TZNAME:EST
DTSTART:20251102T060000
END:STANDARD
BEGIN:DAYLIGHT
TZOFFSETFROM:-0500
TZOFFSETTO:-0400
TZNAME:EDT
DTSTART:20260308T070000
END:DAYLIGHT
BEGIN:STANDARD
TZOFFSETFROM:-0400
TZOFFSETTO:-0500
TZNAME:EST
DTSTART:20261101T060000
END:STANDARD
BEGIN:DAYLIGHT
TZOFFSETFROM:-0500
TZOFFSETTO:-0400
TZNAME:EDT
DTSTART:20270314T070000
END:DAYLIGHT
BEGIN:STANDARD
TZOFFSETFROM:-0400
TZOFFSETTO:-0500
TZNAME:EST
DTSTART:20271107T060000
END:STANDARD
END:VTIMEZONE
BEGIN:VEVENT
DTSTART;TZID=America/Kentucky/Louisville:20260816T080000
DTEND;TZID=America/Kentucky/Louisville:20260816T080000
DTSTAMP:20260425T113358
CREATED:20260414T195541Z
LAST-MODIFIED:20260415T224311Z
UID:1863-1786867200-1786867200@visitgallatincountyky.com
SUMMARY:Muddy Princess 5K Obstacle Mud Run for Women at Pop's Landing
DESCRIPTION:Learn more at https://www.muddyprincess.com/events/kentucky/
URL:https://visitgallatincountyky.com/event/muddy-princess-pops-landing/
LOCATION:Pop’s Landing\, 129 S Main St\, Glencoe\, KY\, 41046\, United States
ATTACH;FMTTYPE=image/jpeg:https://visitgallatincountyky.com/wp-content/uploads/2026/04/DV20179-scaled-1.jpg
END:VEVENT
END:VCALENDAR