BEGIN:VCALENDAR
VERSION:2.0
PRODID:-//Gallatin County Tourism • Gallatin County, Kentucky - ECPv6.15.20//NONSGML v1.0//EN
CALSCALE:GREGORIAN
METHOD:PUBLISH
X-ORIGINAL-URL:https://visitgallatincountyky.com
X-WR-CALDESC:Events for Gallatin County Tourism • Gallatin County, Kentucky
REFRESH-INTERVAL;VALUE=DURATION:PT1H
X-Robots-Tag:noindex
X-PUBLISHED-TTL:PT1H
BEGIN:VTIMEZONE
TZID:America/Kentucky/Louisville
BEGIN:DAYLIGHT
TZOFFSETFROM:-0500
TZOFFSETTO:-0400
TZNAME:EDT
DTSTART:20250309T070000
END:DAYLIGHT
BEGIN:STANDARD
TZOFFSETFROM:-0400
TZOFFSETTO:-0500
TZNAME:EST
DTSTART:20251102T060000
END:STANDARD
BEGIN:DAYLIGHT
TZOFFSETFROM:-0500
TZOFFSETTO:-0400
TZNAME:EDT
DTSTART:20260308T070000
END:DAYLIGHT
BEGIN:STANDARD
TZOFFSETFROM:-0400
TZOFFSETTO:-0500
TZNAME:EST
DTSTART:20261101T060000
END:STANDARD
BEGIN:DAYLIGHT
TZOFFSETFROM:-0500
TZOFFSETTO:-0400
TZNAME:EDT
DTSTART:20270314T070000
END:DAYLIGHT
BEGIN:STANDARD
TZOFFSETFROM:-0400
TZOFFSETTO:-0500
TZNAME:EST
DTSTART:20271107T060000
END:STANDARD
END:VTIMEZONE
BEGIN:VEVENT
DTSTART;VALUE=DATE:20260806
DTEND;VALUE=DATE:20260810
DTSTAMP:20260425T084909
CREATED:20260414T194343Z
LAST-MODIFIED:20260414T194343Z
UID:1854-1785974400-1786319999@visitgallatincountyky.com
SUMMARY:127 Yard Sale
DESCRIPTION:
URL:https://visitgallatincountyky.com/event/127-yard-sale-3/
LOCATION:KY
END:VEVENT
BEGIN:VEVENT
DTSTART;VALUE=DATE:20260808
DTEND;VALUE=DATE:20260809
DTSTAMP:20260425T084909
CREATED:20260414T194618Z
LAST-MODIFIED:20260414T194618Z
UID:1856-1786147200-1786233599@visitgallatincountyky.com
SUMMARY:Good Ol Boys and Gals Car Show
DESCRIPTION:
URL:https://visitgallatincountyky.com/event/good-ol-boys-and-gals-car-show/
LOCATION:Warsaw Riverfront Park\, 3rd St\, Warsaw\, KY\, 41095\, United States
END:VEVENT
BEGIN:VEVENT
DTSTART;VALUE=DATE:20260808
DTEND;VALUE=DATE:20260809
DTSTAMP:20260425T084909
CREATED:20260414T195123Z
LAST-MODIFIED:20260415T224011Z
UID:1858-1786147200-1786233599@visitgallatincountyky.com
SUMMARY:Raft Up\, Craig's Creek - Smugglers Cove
DESCRIPTION:Learn more at https://www.facebook.com/smugglerscovemarina
URL:https://visitgallatincountyky.com/event/raft-up-craigs-creek-smugglers-cove/
LOCATION:KY
ATTACH;FMTTYPE=image/jpeg:https://visitgallatincountyky.com/wp-content/uploads/2026/04/425593911_764484332383296_4255636012620669862_n.jpg
END:VEVENT
END:VCALENDAR