BEGIN:VCALENDAR
VERSION:2.0
PRODID:-//Gallatin County Tourism • Gallatin County, Kentucky - ECPv6.15.20//NONSGML v1.0//EN
CALSCALE:GREGORIAN
METHOD:PUBLISH
X-ORIGINAL-URL:https://visitgallatincountyky.com
X-WR-CALDESC:Events for Gallatin County Tourism • Gallatin County, Kentucky
REFRESH-INTERVAL;VALUE=DURATION:PT1H
X-Robots-Tag:noindex
X-PUBLISHED-TTL:PT1H
BEGIN:VTIMEZONE
TZID:America/Kentucky/Louisville
BEGIN:DAYLIGHT
TZOFFSETFROM:-0500
TZOFFSETTO:-0400
TZNAME:EDT
DTSTART:20250309T070000
END:DAYLIGHT
BEGIN:STANDARD
TZOFFSETFROM:-0400
TZOFFSETTO:-0500
TZNAME:EST
DTSTART:20251102T060000
END:STANDARD
BEGIN:DAYLIGHT
TZOFFSETFROM:-0500
TZOFFSETTO:-0400
TZNAME:EDT
DTSTART:20260308T070000
END:DAYLIGHT
BEGIN:STANDARD
TZOFFSETFROM:-0400
TZOFFSETTO:-0500
TZNAME:EST
DTSTART:20261101T060000
END:STANDARD
BEGIN:DAYLIGHT
TZOFFSETFROM:-0500
TZOFFSETTO:-0400
TZNAME:EDT
DTSTART:20270314T070000
END:DAYLIGHT
BEGIN:STANDARD
TZOFFSETFROM:-0400
TZOFFSETTO:-0500
TZNAME:EST
DTSTART:20271107T060000
END:STANDARD
END:VTIMEZONE
BEGIN:VEVENT
DTSTART;TZID=America/Kentucky/Louisville:20260709T160000
DTEND;TZID=America/Kentucky/Louisville:20260709T190000
DTSTAMP:20260425T072238
CREATED:20260415T180012Z
LAST-MODIFIED:20260415T180012Z
UID:1888-1783612800-1783623600@visitgallatincountyky.com
SUMMARY:Farmers Market
DESCRIPTION:
URL:https://visitgallatincountyky.com/event/farmers-market-7/
LOCATION:KY
ATTACH;FMTTYPE=image/jpeg:https://visitgallatincountyky.com/wp-content/uploads/2026/04/658615937_122207625470294313_4988585019187339771_n.jpg
END:VEVENT
END:VCALENDAR