BEGIN:VCALENDAR
VERSION:2.0
PRODID:-//Gallatin County Tourism • Gallatin County, Kentucky - ECPv6.15.20//NONSGML v1.0//EN
CALSCALE:GREGORIAN
METHOD:PUBLISH
X-ORIGINAL-URL:https://visitgallatincountyky.com
X-WR-CALDESC:Events for Gallatin County Tourism • Gallatin County, Kentucky
REFRESH-INTERVAL;VALUE=DURATION:PT1H
X-Robots-Tag:noindex
X-PUBLISHED-TTL:PT1H
BEGIN:VTIMEZONE
TZID:America/Kentucky/Louisville
BEGIN:DAYLIGHT
TZOFFSETFROM:-0500
TZOFFSETTO:-0400
TZNAME:EDT
DTSTART:20240310T070000
END:DAYLIGHT
BEGIN:STANDARD
TZOFFSETFROM:-0400
TZOFFSETTO:-0500
TZNAME:EST
DTSTART:20241103T060000
END:STANDARD
BEGIN:DAYLIGHT
TZOFFSETFROM:-0500
TZOFFSETTO:-0400
TZNAME:EDT
DTSTART:20250309T070000
END:DAYLIGHT
BEGIN:STANDARD
TZOFFSETFROM:-0400
TZOFFSETTO:-0500
TZNAME:EST
DTSTART:20251102T060000
END:STANDARD
BEGIN:DAYLIGHT
TZOFFSETFROM:-0500
TZOFFSETTO:-0400
TZNAME:EDT
DTSTART:20260308T070000
END:DAYLIGHT
BEGIN:STANDARD
TZOFFSETFROM:-0400
TZOFFSETTO:-0500
TZNAME:EST
DTSTART:20261101T060000
END:STANDARD
END:VTIMEZONE
BEGIN:VEVENT
DTSTART;VALUE=DATE:20250712
DTEND;VALUE=DATE:20250713
DTSTAMP:20260425T154800
CREATED:20250303T193021Z
LAST-MODIFIED:20250303T193021Z
UID:1716-1752278400-1752364799@visitgallatincountyky.com
SUMMARY:Concert in the Park – Velvet Soul
DESCRIPTION:Join us for Concert in the Park featuring Velvet Soul on July 12\, 2025.
URL:https://visitgallatincountyky.com/event/concert-in-the-park-velvet-soul/
LOCATION:KY
ATTACH;FMTTYPE=image/jpeg:https://visitgallatincountyky.com/wp-content/uploads/2025/03/pexels-edwardeyer-811838.jpg
END:VEVENT
END:VCALENDAR